BEGIN:VCALENDAR
VERSION:2.0
PRODID:-//wp-events-plugin.com//7.0.4//EN
BEGIN:VEVENT
UID:1@infinite1.jp
DTSTART:20250518T100000Z
DTEND:20250518T140000Z
DTSTAMP:20250423T104155Z
URL:https://www.infinite1.jp/events/kson2025/
SUMMARY:Kson Virtual Fan Meeting 2025
DESCRIPTION:\n							\n									按此跳轉至Klook 購票連結   Buy Tic
 ket from Klook\n					\n		不要錯過與百萬Vtuber Kson総長1對1見面
 的機會!Kson Virtual Fan Meeting in Hong Kong 2025 會於5月18日在Por
 tal舉行所有入場門票可以獲贈FansCard一張，VIP門票可同時
 獲得印刷簽名色紙，更有機會獲得與Kson1對1見面的機會
 親衛隊們記得嚟喇！正式公開售票會於4月23日中午12時 
 於Klook發售 [Kson Virtual Fan Meeting in Hong Kong 2025]日期：2025
 年5月18日時間：Part1 18:00 /Part2 20:30地點：Portal(1/F &amp\; 2/
 F The Burrow\, 212 Choi Hung Road\, San Po Kong\, Hong Kong)票價：Part1
 : VIP$980 / $680\, Part2: VIP$980 / $680 Don't miss your chance to meet K
 son Souchou one-on-one!All category of tickets will receive a FansCard as 
 bonus\, and VIP tickets will also receive a printed autographed Shikishi\,
  and there is even a chance to have a meet &amp\; greeting section 1-on-1 
 with Kson\, don’t miss it!Official tickets sales will be available on Kl
 ook on 23 of April 12:00pm [Kson Virtual Fan Meeting in Hong Kong 2025]Da
 te：2025年5月18日Time：Part1 18:00 /Part2 20:30Venue：Portal(1/F &am
 p\; 2/F The Burrow\, 212 Choi Hung Road\, San Po Kong\, Hong Kong)Ticket
 ：Part1: VIP$980 / $680\, Part2: VIP$980 / $680		\n											\n									
 		\n											\n					Last Update    \n        16 4 月\, 2025by info infi
 niteone0 CommentsFans MeetingLast UpdateVTuberKson Virtual Fan Meeting 202
 5 票價與來場特典公佈[票價與來場特典公佈]不要錯過與
 百萬Vtuber Kson総長1對1見面的機會!Kson Virtual Fan Meeting in Ho
 ng Kong 2025 會於5月18日在Portal舉行所有入場門票可以獲贈F
 ansCard一張，VIP門票可同時獲得印刷簽名色紙，更有機會
 獲得與Kson1對1見面的機會親衛隊們記得嚟喇！正式公開
 售票會於4月23日中午12時...            \n                READ MORE
 \n                \n        13 4 月\, 2025by info infiniteone0 CommentsFa
 ns MeetingLast UpdateVTuberKson首個在香港的線上見面會將於5月
 18日在Portal舉行不要錯過與百萬Vtuber Kson総長1對1見面的
 機會!Kson Virtual Fan Meeting in Hong Kong 2025 會於5月18日在Portal
 舉行所有入場門票可以獲贈FansCard一張，VIP門票可同時獲
 得印刷簽名色紙，更有機會獲得與Kson1對1見面的機會親
 衛隊們記得嚟喇！正式公開售票會於4月23日中午12時...   
          \n                READ MORE\n                \n    
ATTACH;FMTTYPE=image/jpeg:https://www.infinite1.jp/wp-content/uploads/2025
 /04/Kson-1080x1920-1.jpg
CATEGORIES:Fan Meeting,VTuber
LOCATION:PORTAL\, 1/F\, The Burrow\, 212 Choi Hung Road\, San Po Kong\, Hon
 g Kong\, 中国香港特别行政区
X-APPLE-STRUCTURED-LOCATION;VALUE=URI;X-ADDRESS=1/F\, The Burrow\, 212 Choi
  Hung Road\, San Po Kong\, Hong Kong\, 中国香港特别行政区;X-APPLE
 -RADIUS=100;X-TITLE=PORTAL:geo:0,0
END:VEVENT
END:VCALENDAR